BEGIN:VCALENDAR
VERSION:2.0
PRODID:-//STEM2 Hub - ECPv6.6.4.2//NONSGML v1.0//EN
CALSCALE:GREGORIAN
METHOD:PUBLISH
X-WR-CALNAME:STEM2 Hub
X-ORIGINAL-URL:https://stem2hub.org
X-WR-CALDESC:Events for STEM2 Hub
REFRESH-INTERVAL;VALUE=DURATION:PT1H
X-Robots-Tag:noindex
X-PUBLISHED-TTL:PT1H
BEGIN:VTIMEZONE
TZID:UTC
BEGIN:STANDARD
TZOFFSETFROM:+0000
TZOFFSETTO:+0000
TZNAME:UTC
DTSTART:20190101T000000
END:STANDARD
TZID:America/New_York
BEGIN:DAYLIGHT
TZOFFSETFROM:-0500
TZOFFSETTO:-0400
TZNAME:EDT
DTSTART:20190310T070000
END:DAYLIGHT
BEGIN:STANDARD
TZOFFSETFROM:-0400
TZOFFSETTO:-0500
TZNAME:EST
DTSTART:20191103T060000
END:STANDARD
END:VTIMEZONE
BEGIN:VEVENT
DTSTART;TZID=UTC:20190517T100000
DTEND;TZID=UTC:20190517T140000
DTSTAMP:20260420T040501
CREATED:20190501T054511Z
LAST-MODIFIED:20190501T210318Z
UID:483-1558087200-1558101600@stem2hub.org
SUMMARY:Second Annual Computer Science Fair
DESCRIPTION:Northeast Florida students from high schools around the region show their work and compete for internships and prizes!  Open to the public.
URL:https://stem2hub.org/event/second-annual-mosh-computer-science-fair/
LOCATION:Museum of Science and History\, 1025 Museum Circle\, Jacksonville\, FL\, 32207\, United States
ATTACH;FMTTYPE=image/jpeg:https://stem2hub.org/wp-content/uploads/2019/05/maxresdefault.jpg
END:VEVENT
BEGIN:VEVENT
DTSTART;TZID=America/New_York:20190427T130000
DTEND;TZID=America/New_York:20190427T160000
DTSTAMP:20260420T040501
CREATED:20190418T214353Z
LAST-MODIFIED:20190418T215018Z
UID:426-1556370000-1556380800@stem2hub.org
SUMMARY:SWAG (Students Working To Achieve Greatness) Awards with JaxPAL
DESCRIPTION:STEM2 Hub will be at the expo before the awards show spotlighting robotics!
URL:https://stem2hub.org/event/swag-students-working-to-achieve-greatness-awards-with-jaxpal/
LOCATION:Florida Theatre\, 128 East Forsyth St.\, Jacksonville\, FL\, 32202\, United States
ATTACH;FMTTYPE=image/png:https://stem2hub.org/wp-content/uploads/2019/04/51540081_2483455388350171_916035353649872896_n.png
ORGANIZER;CN="Police Athletic League of Jacksonville (JaxPAL)":MAILTO:events@jaxpal.com
END:VEVENT
END:VCALENDAR